BEGIN:VCALENDAR
VERSION:2.0
PRODID:-//Association Mielline - ECPv6.3.5//NONSGML v1.0//EN
CALSCALE:GREGORIAN
METHOD:PUBLISH
X-WR-CALNAME:Association Mielline
X-ORIGINAL-URL:https://www.mielline.org
X-WR-CALDESC:évènements pour Association Mielline
REFRESH-INTERVAL;VALUE=DURATION:PT1H
X-Robots-Tag:noindex
X-PUBLISHED-TTL:PT1H
BEGIN:VTIMEZONE
TZID:Europe/Paris
BEGIN:DAYLIGHT
TZOFFSETFROM:+0100
TZOFFSETTO:+0200
TZNAME:CEST
DTSTART:20170326T010000
END:DAYLIGHT
BEGIN:STANDARD
TZOFFSETFROM:+0200
TZOFFSETTO:+0100
TZNAME:CET
DTSTART:20171029T010000
END:STANDARD
END:VTIMEZONE
BEGIN:VEVENT
DTSTART;TZID=Europe/Paris:20170918T123000
DTEND;TZID=Europe/Paris:20170918T133000
DTSTAMP:20260421T074006
CREATED:20170830T100128Z
LAST-MODIFIED:20170904T180157Z
UID:612-1505737800-1505741400@www.mielline.org
SUMMARY:Rentrée atelier Cultiver la bienveillance
DESCRIPTION:
URL:https://www.mielline.org/event/rentree-atelier-cultiver-la-bienveillance/
LOCATION:Maison des Projets\, 48\, avenue de la Liberté\, Buxerolles\, 86180
CATEGORIES:ATELIERS
END:VEVENT
BEGIN:VEVENT
DTSTART;TZID=Europe/Paris:20170918T184500
DTEND;TZID=Europe/Paris:20170918T194500
DTSTAMP:20260421T074006
CREATED:20170830T095612Z
LAST-MODIFIED:20170904T180631Z
UID:607-1505760300-1505763900@www.mielline.org
SUMMARY:Rentrée atelier Contemplations harmoniques
DESCRIPTION:
URL:https://www.mielline.org/event/rentree-atelier-contemplations-harmoniques/
LOCATION:Studio Anna Weill\, 3\, rue de l'Abbé de l'Épée\, Poitiers\, 86000
CATEGORIES:ATELIERS
END:VEVENT
BEGIN:VEVENT
DTSTART;TZID=Europe/Paris:20170918T200000
DTEND;TZID=Europe/Paris:20170918T213000
DTSTAMP:20260421T074006
CREATED:20170830T095801Z
LAST-MODIFIED:20170904T180238Z
UID:610-1505764800-1505770200@www.mielline.org
SUMMARY:Rentrée atelier BMC
DESCRIPTION:
URL:https://www.mielline.org/event/rentree-atelier-bmc/
LOCATION:Studio Anna Weill\, 3\, rue de l'Abbé de l'Épée\, Poitiers\, 86000
CATEGORIES:ATELIERS
END:VEVENT
END:VCALENDAR