BEGIN:VCALENDAR
VERSION:2.0
PRODID:-//Association Mielline - ECPv6.3.5//NONSGML v1.0//EN
CALSCALE:GREGORIAN
METHOD:PUBLISH
X-WR-CALNAME:Association Mielline
X-ORIGINAL-URL:https://www.mielline.org
X-WR-CALDESC:évènements pour Association Mielline
REFRESH-INTERVAL;VALUE=DURATION:PT1H
X-Robots-Tag:noindex
X-PUBLISHED-TTL:PT1H
BEGIN:VTIMEZONE
TZID:Europe/Paris
BEGIN:DAYLIGHT
TZOFFSETFROM:+0100
TZOFFSETTO:+0200
TZNAME:CEST
DTSTART:20220327T010000
END:DAYLIGHT
BEGIN:STANDARD
TZOFFSETFROM:+0200
TZOFFSETTO:+0100
TZNAME:CET
DTSTART:20221030T010000
END:STANDARD
END:VTIMEZONE
BEGIN:VEVENT
DTSTART;TZID=Europe/Paris:20221217T140000
DTEND;TZID=Europe/Paris:20221218T173000
DTSTAMP:20260422T034943
CREATED:20221002T150509Z
LAST-MODIFIED:20221117T190657Z
UID:2725-1671285600-1671384600@www.mielline.org
SUMMARY:Temps de l'Avent grégorien
DESCRIPTION:Session « Avent grégorien »\,  répétitions avec Geoffroy Dudouit\, concert le dimanche 18 décembre à Poitiers. Tarif : 60 € les deux jours + 10 adhésion à l’association Nanclars Culture et Création.
URL:https://www.mielline.org/event/noel-gregorien-2/
LOCATION:église St Porchaire\, Rue Gambetta\, Poitiers\, 86000
CATEGORIES:SESSIONS GRÉGORIEN
ATTACH;FMTTYPE=image/jpeg:https://www.mielline.org/wp-content/uploads/2017/05/visuel-polyphonies-médiévales.jpg
ORGANIZER;CN="Association Nanclars Culture Cr%C3%A9ation":MAILTO:nanclarsculturecreation@gmail.com
END:VEVENT
END:VCALENDAR